BEGIN:VCALENDAR
VERSION:2.0
PRODID:-//SEGC - ECPv6.15.20//NONSGML v1.0//EN
CALSCALE:GREGORIAN
METHOD:PUBLISH
X-ORIGINAL-URL:https://thesegc.com
X-WR-CALDESC:Events for SEGC
REFRESH-INTERVAL;VALUE=DURATION:PT1H
X-Robots-Tag:noindex
X-PUBLISHED-TTL:PT1H
BEGIN:VTIMEZONE
TZID:America/Chicago
BEGIN:DAYLIGHT
TZOFFSETFROM:-0600
TZOFFSETTO:-0500
TZNAME:CDT
DTSTART:20250309T080000
END:DAYLIGHT
BEGIN:STANDARD
TZOFFSETFROM:-0500
TZOFFSETTO:-0600
TZNAME:CST
DTSTART:20251102T070000
END:STANDARD
BEGIN:DAYLIGHT
TZOFFSETFROM:-0600
TZOFFSETTO:-0500
TZNAME:CDT
DTSTART:20260308T080000
END:DAYLIGHT
BEGIN:STANDARD
TZOFFSETFROM:-0500
TZOFFSETTO:-0600
TZNAME:CST
DTSTART:20261101T070000
END:STANDARD
BEGIN:DAYLIGHT
TZOFFSETFROM:-0600
TZOFFSETTO:-0500
TZNAME:CDT
DTSTART:20270314T080000
END:DAYLIGHT
BEGIN:STANDARD
TZOFFSETFROM:-0500
TZOFFSETTO:-0600
TZNAME:CST
DTSTART:20271107T070000
END:STANDARD
END:VTIMEZONE
BEGIN:VEVENT
DTSTART;TZID=America/Chicago:20260820T160000
DTEND;TZID=America/Chicago:20260820T180000
DTSTAMP:20260421T062844
CREATED:20260414T140943Z
LAST-MODIFIED:20260414T170146Z
UID:10000023-1787241600-1787248800@thesegc.com
SUMMARY:Summer Social 2026
DESCRIPTION:Join us for the 4th annual Summer Social and get to know the amazing people who attend SEGC! Everyone is welcome\, and Annual Members get reduced pricing!\nYour ticket includes: Food\, drink ticket\, games\, and (of course) networking. \nPricing\n\nEarly bird through Friday\, August 1: $40 ($30 for Annual Members)\nAugust 2 – 19: $45 ($35 for Annual Members)\nDay-of admission: $45\n\nGathering will take place inside\, 2nd floor.
URL:https://thesegc.com/event/summer-social-2026/
LOCATION:Brookview Golf Course\, 316 Brookview Parkway S\, Golden Valley\, 55426\, United States
CATEGORIES:2026,Social Networking
END:VEVENT
END:VCALENDAR